BEGIN:VCALENDAR
VERSION:2.0
PRODID:-//Tukios.com/
BEGIN:VEVENT
UID:296656ba-8a24-43af-9145-c5b5acdd98bd@www.boucherfuneral.com
DTSTAMP:20260420T193925Z
DTSTART:20260428T133000Z
DTEND:20260428T140000Z
SUMMARY:Public Viewing
DESCRIPTION:
URL:https://www.boucherfuneral.com/obituaries/sandra-kulvete
LOCATION:Boucher Funeral Home Inc 110 Nichols Street  Gardner MA 01440
GEO:42.5738533;-71.9976627
END:VEVENT
END:VCALENDAR