BEGIN:VCALENDAR
VERSION:2.0
PRODID:-//Tukios.com/
BEGIN:VEVENT
UID:cfbfd9b9-44b0-4f6d-afeb-1d3d83e4ea25@www.boucherfuneral.com
DTSTAMP:20260420T194119Z
DTSTART:20260428T140000Z
DTEND:20260428T143000Z
SUMMARY:Funeral Service
DESCRIPTION:
URL:https://www.boucherfuneral.com/obituaries/sandra-kulvete
LOCATION:Boucher Funeral Home Inc 110 Nichols Street  Gardner MA 01440
GEO:42.5738533;-71.9976627
END:VEVENT
END:VCALENDAR