BEGIN:VCALENDAR
VERSION:2.0
PRODID:-//Tukios.com/
BEGIN:VEVENT
UID:7333cc43-2145-40a7-b797-6976b62c8a56@www.boucherfuneral.com
DTSTAMP:20260420T194255Z
DTSTART:20260428T150000Z
DTEND:20260428T153000Z
SUMMARY:Graveside Service
DESCRIPTION:
URL:https://www.boucherfuneral.com/obituaries/sandra-kulvete
LOCATION:Massachusetts Veterans Memorial Cemetery  111 Glenallen Street  
	Winchendon MA 01475
GEO:42.6847375;-72.0174087
END:VEVENT
END:VCALENDAR